BEGIN:VCALENDAR
VERSION:2.0
PRODID:-//Friends of Oakland Animal Services - ECPv6.15.20//NONSGML v1.0//EN
CALSCALE:GREGORIAN
METHOD:PUBLISH
X-ORIGINAL-URL:https://friendsofoas.org
X-WR-CALDESC:Events for Friends of Oakland Animal Services
REFRESH-INTERVAL;VALUE=DURATION:PT1H
X-Robots-Tag:noindex
X-PUBLISHED-TTL:PT1H
BEGIN:VTIMEZONE
TZID:America/Los_Angeles
BEGIN:DAYLIGHT
TZOFFSETFROM:-0800
TZOFFSETTO:-0700
TZNAME:PDT
DTSTART:20240310T100000
END:DAYLIGHT
BEGIN:STANDARD
TZOFFSETFROM:-0700
TZOFFSETTO:-0800
TZNAME:PST
DTSTART:20241103T090000
END:STANDARD
BEGIN:DAYLIGHT
TZOFFSETFROM:-0800
TZOFFSETTO:-0700
TZNAME:PDT
DTSTART:20250309T100000
END:DAYLIGHT
BEGIN:STANDARD
TZOFFSETFROM:-0700
TZOFFSETTO:-0800
TZNAME:PST
DTSTART:20251102T090000
END:STANDARD
BEGIN:DAYLIGHT
TZOFFSETFROM:-0800
TZOFFSETTO:-0700
TZNAME:PDT
DTSTART:20260308T100000
END:DAYLIGHT
BEGIN:STANDARD
TZOFFSETFROM:-0700
TZOFFSETTO:-0800
TZNAME:PST
DTSTART:20261101T090000
END:STANDARD
END:VTIMEZONE
BEGIN:VEVENT
DTSTART;TZID=America/Los_Angeles:20250601T110000
DTEND;TZID=America/Los_Angeles:20250601T140000
DTSTAMP:20260423T153559
CREATED:20250520T040451Z
LAST-MODIFIED:20250520T040451Z
UID:16152-1748775600-1748786400@friendsofoas.org
SUMMARY:FOAS at Pet Food Express Rockridge
DESCRIPTION:Friends of Oakland Animal Services (FOAS) will have an information table set up outside Pet Food Express in Rockridge. Stop by to chat with us and learn more about FOAS!
URL:https://friendsofoas.org/event/foas-at-pet-food-express-rockridge/
LOCATION:Pet Food Express Rockridge\, 5108 Broadway\, Oakland\, CA\, 94611\, United States
ORGANIZER;CN="Friends of Oakland Animal Services":MAILTO:info@friendsofoas.org
END:VEVENT
END:VCALENDAR