BEGIN:VCALENDAR
VERSION:2.0
PRODID:-//Friends of Oakland Animal Services - ECPv6.15.20//NONSGML v1.0//EN
CALSCALE:GREGORIAN
METHOD:PUBLISH
X-WR-CALNAME:Friends of Oakland Animal Services
X-ORIGINAL-URL:https://friendsofoas.org
X-WR-CALDESC:Events for Friends of Oakland Animal Services
REFRESH-INTERVAL;VALUE=DURATION:PT1H
X-Robots-Tag:noindex
X-PUBLISHED-TTL:PT1H
BEGIN:VTIMEZONE
TZID:America/Los_Angeles
BEGIN:DAYLIGHT
TZOFFSETFROM:-0800
TZOFFSETTO:-0700
TZNAME:PDT
DTSTART:20240310T100000
END:DAYLIGHT
BEGIN:STANDARD
TZOFFSETFROM:-0700
TZOFFSETTO:-0800
TZNAME:PST
DTSTART:20241103T090000
END:STANDARD
BEGIN:DAYLIGHT
TZOFFSETFROM:-0800
TZOFFSETTO:-0700
TZNAME:PDT
DTSTART:20250309T100000
END:DAYLIGHT
BEGIN:STANDARD
TZOFFSETFROM:-0700
TZOFFSETTO:-0800
TZNAME:PST
DTSTART:20251102T090000
END:STANDARD
BEGIN:DAYLIGHT
TZOFFSETFROM:-0800
TZOFFSETTO:-0700
TZNAME:PDT
DTSTART:20260308T100000
END:DAYLIGHT
BEGIN:STANDARD
TZOFFSETFROM:-0700
TZOFFSETTO:-0800
TZNAME:PST
DTSTART:20261101T090000
END:STANDARD
END:VTIMEZONE
BEGIN:VEVENT
DTSTART;TZID=America/Los_Angeles:20250607T120000
DTEND;TZID=America/Los_Angeles:20250607T170000
DTSTAMP:20260423T153513
CREATED:20250606T053819Z
LAST-MODIFIED:20250606T053835Z
UID:16222-1749297600-1749315600@friendsofoas.org
SUMMARY:FOAS at Adopt-a-Palooza
DESCRIPTION:On June 7\, Friends of Oakland Animal Services (FOAS) will be tabling at Oakland Animal Service’s Adopt-a-Palooza event. Come on by to say hi and learn more about the work that FOAS does\, and our partnership with OAS. There will be adoptable animals\, music\, DJ\, food vendors\, and more!
URL:https://friendsofoas.org/event/foas-at-adopt-a-palooza/
LOCATION:Oakland Animal Services\, 1101 29th Ave\, Oakland\, CA\, United States
END:VEVENT
END:VCALENDAR