BEGIN:VCALENDAR
VERSION:2.0
PRODID:-//Friends of Oakland Animal Services - ECPv6.15.20//NONSGML v1.0//EN
CALSCALE:GREGORIAN
METHOD:PUBLISH
X-ORIGINAL-URL:https://friendsofoas.org
X-WR-CALDESC:Events for Friends of Oakland Animal Services
REFRESH-INTERVAL;VALUE=DURATION:PT1H
X-Robots-Tag:noindex
X-PUBLISHED-TTL:PT1H
BEGIN:VTIMEZONE
TZID:America/Los_Angeles
BEGIN:DAYLIGHT
TZOFFSETFROM:-0800
TZOFFSETTO:-0700
TZNAME:PDT
DTSTART:20250309T100000
END:DAYLIGHT
BEGIN:STANDARD
TZOFFSETFROM:-0700
TZOFFSETTO:-0800
TZNAME:PST
DTSTART:20251102T090000
END:STANDARD
BEGIN:DAYLIGHT
TZOFFSETFROM:-0800
TZOFFSETTO:-0700
TZNAME:PDT
DTSTART:20260308T100000
END:DAYLIGHT
BEGIN:STANDARD
TZOFFSETFROM:-0700
TZOFFSETTO:-0800
TZNAME:PST
DTSTART:20261101T090000
END:STANDARD
BEGIN:DAYLIGHT
TZOFFSETFROM:-0800
TZOFFSETTO:-0700
TZNAME:PDT
DTSTART:20270314T100000
END:DAYLIGHT
BEGIN:STANDARD
TZOFFSETFROM:-0700
TZOFFSETTO:-0800
TZNAME:PST
DTSTART:20271107T090000
END:STANDARD
END:VTIMEZONE
BEGIN:VEVENT
DTSTART;TZID=America/Los_Angeles:20260306T170000
DTEND;TZID=America/Los_Angeles:20260306T190000
DTSTAMP:20260423T031833
CREATED:20260304T085127Z
LAST-MODIFIED:20260304T085127Z
UID:17422-1772816400-1772823600@friendsofoas.org
SUMMARY:Oakland United Beerworks Lucky Dog Beer Release Party
DESCRIPTION:Join us at Oakland United Beerworks on Friday March 6 to celebrate the release of the Lucky Dog Hazy IPA featuring adopted dog Rhoda! During FOAS’ 20th Anniversary Celebration last Fall\, Rhoda’s human won the auction item to have their dog featured on OUB’s Lucky Dog beer. We can’t wait to see you\, and Rhoda\, at OUB on Friday!
URL:https://friendsofoas.org/event/oakland-united-beerworks-lucky-dog-beer-release-party/
LOCATION:Oakland United Beerworks\, 262 Second Street\, Oakland\, CA\, United States
END:VEVENT
END:VCALENDAR