BEGIN:VCALENDAR
VERSION:2.0
PRODID:-//Friends of Oakland Animal Services - ECPv6.15.20//NONSGML v1.0//EN
CALSCALE:GREGORIAN
METHOD:PUBLISH
X-ORIGINAL-URL:https://friendsofoas.org
X-WR-CALDESC:Events for Friends of Oakland Animal Services
REFRESH-INTERVAL;VALUE=DURATION:PT1H
X-Robots-Tag:noindex
X-PUBLISHED-TTL:PT1H
BEGIN:VTIMEZONE
TZID:America/Los_Angeles
BEGIN:DAYLIGHT
TZOFFSETFROM:-0800
TZOFFSETTO:-0700
TZNAME:PDT
DTSTART:20240310T100000
END:DAYLIGHT
BEGIN:STANDARD
TZOFFSETFROM:-0700
TZOFFSETTO:-0800
TZNAME:PST
DTSTART:20241103T090000
END:STANDARD
BEGIN:DAYLIGHT
TZOFFSETFROM:-0800
TZOFFSETTO:-0700
TZNAME:PDT
DTSTART:20250309T100000
END:DAYLIGHT
BEGIN:STANDARD
TZOFFSETFROM:-0700
TZOFFSETTO:-0800
TZNAME:PST
DTSTART:20251102T090000
END:STANDARD
BEGIN:DAYLIGHT
TZOFFSETFROM:-0800
TZOFFSETTO:-0700
TZNAME:PDT
DTSTART:20260308T100000
END:DAYLIGHT
BEGIN:STANDARD
TZOFFSETFROM:-0700
TZOFFSETTO:-0800
TZNAME:PST
DTSTART:20261101T090000
END:STANDARD
END:VTIMEZONE
BEGIN:VEVENT
DTSTART;TZID=America/Los_Angeles:20250524T150000
DTEND;TZID=America/Los_Angeles:20250524T170000
DTSTAMP:20260423T155448
CREATED:20250520T042215Z
LAST-MODIFIED:20250520T042249Z
UID:16163-1748098800-1748106000@friendsofoas.org
SUMMARY:FOAS at Nido's Backyard
DESCRIPTION:Friends of Oakland Animal Services (FOAS) will be at the dog adoption pup-up organized by Oakland Animal Services (OAS) at Nido’s Backyard. Stop by to chat with us and learn more about FOAS!
URL:https://friendsofoas.org/event/foas-at-nidos-backyard/
LOCATION:Nido’s Backyard\, 104 Oak Street\, Oakland\, CA\, United States
END:VEVENT
BEGIN:VEVENT
DTSTART;TZID=America/Los_Angeles:20250527T180000
DTEND;TZID=America/Los_Angeles:20250527T200000
DTSTAMP:20260423T155448
CREATED:20250522T060659Z
LAST-MODIFIED:20250522T060659Z
UID:16184-1748368800-1748376000@friendsofoas.org
SUMMARY:Public Town Hall Meeting
DESCRIPTION:Town Hall Meetings: May 27 (in-person) &  May 29 (Zoom) \n \nRegister here!
URL:https://friendsofoas.org/event/public-town-hall-meeting/
LOCATION:Temescal Works\, 490 43rd Street\, Oakland\, CA\, 94609\, United States
ORGANIZER;CN="Friends of Oakland Animal Services":MAILTO:info@friendsofoas.org
END:VEVENT
BEGIN:VEVENT
DTSTART;TZID=America/Los_Angeles:20250529T180000
DTEND;TZID=America/Los_Angeles:20250529T193000
DTSTAMP:20260423T155448
CREATED:20250522T060922Z
LAST-MODIFIED:20250522T061135Z
UID:16188-1748541600-1748547000@friendsofoas.org
SUMMARY:Public Town Hall Meeting
DESCRIPTION:Town Hall Meetings: May 27 (in-person) &  May 29 (Zoom) \n \nRegister here!
URL:https://friendsofoas.org/event/public-town-hall-meeting-2/
LOCATION:CA
END:VEVENT
BEGIN:VEVENT
DTSTART;TZID=America/Los_Angeles:20250531T110000
DTEND;TZID=America/Los_Angeles:20250531T140000
DTSTAMP:20260423T155448
CREATED:20250520T040100Z
LAST-MODIFIED:20250520T040138Z
UID:16142-1748689200-1748700000@friendsofoas.org
SUMMARY:FOAS at Pet Food Express Montclair
DESCRIPTION:Friends of Oakland Animal Services (FOAS) will have an information table set up outside Pet Food Express in Montclair. Stop by to chat with us and learn more about FOAS!
URL:https://friendsofoas.org/event/foas-at-pet-food-express/
LOCATION:Pet Food Express Montclair\, 2220 Mountain Blvd. #170\, Oakland\, CA\, 94611\, United States
ORGANIZER;CN="Friends of Oakland Animal Services":MAILTO:info@friendsofoas.org
END:VEVENT
END:VCALENDAR