BEGIN:VCALENDAR
VERSION:2.0
PRODID:-//Friends of Oakland Animal Services - ECPv6.15.20//NONSGML v1.0//EN
CALSCALE:GREGORIAN
METHOD:PUBLISH
X-ORIGINAL-URL:https://friendsofoas.org
X-WR-CALDESC:Events for Friends of Oakland Animal Services
REFRESH-INTERVAL;VALUE=DURATION:PT1H
X-Robots-Tag:noindex
X-PUBLISHED-TTL:PT1H
BEGIN:VTIMEZONE
TZID:America/Los_Angeles
BEGIN:DAYLIGHT
TZOFFSETFROM:-0800
TZOFFSETTO:-0700
TZNAME:PDT
DTSTART:20240310T100000
END:DAYLIGHT
BEGIN:STANDARD
TZOFFSETFROM:-0700
TZOFFSETTO:-0800
TZNAME:PST
DTSTART:20241103T090000
END:STANDARD
BEGIN:DAYLIGHT
TZOFFSETFROM:-0800
TZOFFSETTO:-0700
TZNAME:PDT
DTSTART:20250309T100000
END:DAYLIGHT
BEGIN:STANDARD
TZOFFSETFROM:-0700
TZOFFSETTO:-0800
TZNAME:PST
DTSTART:20251102T090000
END:STANDARD
BEGIN:DAYLIGHT
TZOFFSETFROM:-0800
TZOFFSETTO:-0700
TZNAME:PDT
DTSTART:20260308T100000
END:DAYLIGHT
BEGIN:STANDARD
TZOFFSETFROM:-0700
TZOFFSETTO:-0800
TZNAME:PST
DTSTART:20261101T090000
END:STANDARD
END:VTIMEZONE
BEGIN:VEVENT
DTSTART;TZID=America/Los_Angeles:20250920T110000
DTEND;TZID=America/Los_Angeles:20250920T150000
DTSTAMP:20260423T100049
CREATED:20250919T190322Z
LAST-MODIFIED:20250919T190322Z
UID:17017-1758366000-1758380400@friendsofoas.org
SUMMARY:FOAS at Pet Food Express Rockridge
DESCRIPTION:Friends of Oakland Animal Services (FOAS) will have an information table set up inside Pet Food Express in Rockridge. Stop by to chat with us and learn more about FOAS!
URL:https://friendsofoas.org/event/foas-at-pet-food-express-rockridge-2/
LOCATION:Pet Food Express Rockridge\, 5108 Broadway\, Oakland\, CA\, 94611\, United States
ORGANIZER;CN="Friends of Oakland Animal Services":MAILTO:info@friendsofoas.org
END:VEVENT
BEGIN:VEVENT
DTSTART;TZID=America/Los_Angeles:20250928T170000
DTEND;TZID=America/Los_Angeles:20250928T200000
DTSTAMP:20260423T100049
CREATED:20250919T191127Z
LAST-MODIFIED:20250919T191127Z
UID:17019-1759078800-1759089600@friendsofoas.org
SUMMARY:FOAS's 20th Anniversary Celebration
DESCRIPTION:Since 2005\, Friends of Oakland Animal Services(FOAS) has been dedicated to helping Oakland’s shelter animals—funding vital programs and strengthening the infrastructure that makes lifesaving work possible at Oakland Animal Services. We can’t do this work without your support. \nTo celebrate this milestone\, we’re hosting a in-person celebration on September 28 on the beautiful waterfront dock at Lake Chalet\, right on iconic Lake Merritt. Please join us in this celebration! \nLearn more about the event here. \nGet your tickets here! 
URL:https://friendsofoas.org/event/foass-20th-anniversary-celebration/
LOCATION:Lake Chalet\, 1520 Lakeside Dr\, Oakland\, CA\, 94612\, United States
ORGANIZER;CN="Friends of Oakland Animal Services":MAILTO:info@friendsofoas.org
END:VEVENT
END:VCALENDAR